BEGIN:VCALENDAR
VERSION:2.0
PRODID:-//Savour Calgary - ECPv6.15.17.1//NONSGML v1.0//EN
CALSCALE:GREGORIAN
METHOD:PUBLISH
X-WR-CALNAME:Savour Calgary
X-ORIGINAL-URL:https://savourcalgary.ca
X-WR-CALDESC:Events for Savour Calgary
REFRESH-INTERVAL;VALUE=DURATION:PT1H
X-Robots-Tag:noindex
X-PUBLISHED-TTL:PT1H
BEGIN:VTIMEZONE
TZID:America/Edmonton
BEGIN:DAYLIGHT
TZOFFSETFROM:-0700
TZOFFSETTO:-0600
TZNAME:MDT
DTSTART:20240310T090000
END:DAYLIGHT
BEGIN:STANDARD
TZOFFSETFROM:-0600
TZOFFSETTO:-0700
TZNAME:MST
DTSTART:20241103T080000
END:STANDARD
BEGIN:DAYLIGHT
TZOFFSETFROM:-0700
TZOFFSETTO:-0600
TZNAME:MDT
DTSTART:20250309T090000
END:DAYLIGHT
BEGIN:STANDARD
TZOFFSETFROM:-0600
TZOFFSETTO:-0700
TZNAME:MST
DTSTART:20251102T080000
END:STANDARD
BEGIN:DAYLIGHT
TZOFFSETFROM:-0700
TZOFFSETTO:-0600
TZNAME:MDT
DTSTART:20260308T090000
END:DAYLIGHT
BEGIN:STANDARD
TZOFFSETFROM:-0600
TZOFFSETTO:-0700
TZNAME:MST
DTSTART:20261101T080000
END:STANDARD
END:VTIMEZONE
BEGIN:VEVENT
DTSTART;TZID=America/Edmonton:20250804T113000
DTEND;TZID=America/Edmonton:20250804T153000
DTSTAMP:20260419T183126
CREATED:20250714T040327Z
LAST-MODIFIED:20250714T040327Z
UID:33778-1754307000-1754321400@savourcalgary.ca
SUMMARY:Heritage Day Tea
DESCRIPTION:This Heritage Day\, steep yourself in Alberta’s rich history with a relaxed afternoon tea at the Famous 5 Centre of Canadian Women. \nEnjoy a tasty spread of finger sandwiches\, fresh pastries and classic scones—served with your choice of tea or lemonade—all in a cozy historic home that celebrates five inspiring Canadian women who’s stories have shaped our province. \nDetails and registration @ Heritage Park
URL:https://savourcalgary.ca/event/heritage-day-tea-3/
LOCATION:Heritage Park\, 1900 Heritage Dr SW\, Calgary\, Alberta\, T2V 2X3\, Canada
CATEGORIES:Beverages,Family,Food,Friends,Holiday,Tea
ATTACH;FMTTYPE=image/png:https://savourcalgary.ca/wp-content/uploads/2023/07/heritage-tea.png
END:VEVENT
END:VCALENDAR