BEGIN:VCALENDAR
VERSION:2.0
PRODID:-//Savour Calgary - ECPv6.15.17.1//NONSGML v1.0//EN
CALSCALE:GREGORIAN
METHOD:PUBLISH
X-ORIGINAL-URL:https://savourcalgary.ca
X-WR-CALDESC:Events for Savour Calgary
REFRESH-INTERVAL;VALUE=DURATION:PT1H
X-Robots-Tag:noindex
X-PUBLISHED-TTL:PT1H
BEGIN:VTIMEZONE
TZID:America/Edmonton
BEGIN:DAYLIGHT
TZOFFSETFROM:-0700
TZOFFSETTO:-0600
TZNAME:MDT
DTSTART:20240310T090000
END:DAYLIGHT
BEGIN:STANDARD
TZOFFSETFROM:-0600
TZOFFSETTO:-0700
TZNAME:MST
DTSTART:20241103T080000
END:STANDARD
BEGIN:DAYLIGHT
TZOFFSETFROM:-0700
TZOFFSETTO:-0600
TZNAME:MDT
DTSTART:20250309T090000
END:DAYLIGHT
BEGIN:STANDARD
TZOFFSETFROM:-0600
TZOFFSETTO:-0700
TZNAME:MST
DTSTART:20251102T080000
END:STANDARD
BEGIN:DAYLIGHT
TZOFFSETFROM:-0700
TZOFFSETTO:-0600
TZNAME:MDT
DTSTART:20260308T090000
END:DAYLIGHT
BEGIN:STANDARD
TZOFFSETFROM:-0600
TZOFFSETTO:-0700
TZNAME:MST
DTSTART:20261101T080000
END:STANDARD
END:VTIMEZONE
BEGIN:VEVENT
DTSTART;TZID=America/Edmonton:20250901T113000
DTEND;TZID=America/Edmonton:20250901T153000
DTSTAMP:20260419T165157
CREATED:20250714T040312Z
LAST-MODIFIED:20250714T040312Z
UID:33776-1756726200-1756740600@savourcalgary.ca
SUMMARY:Labour Day Tea
DESCRIPTION:Treat yourself to a delicious afternoon featuring finger sandwiches\, sweet pastries and classic scones—served with your choice of tea or lemonade. It’s the perfect way to enjoy the long weekend with family and friends. \nAfter tea\, wander through the Historical Village at your own pace. Peek inside heritage buildings\, chat with costumed interpreters and soak in the final days of summer. Be sure to stop by the shops and use your exclusive Haskayne Mercantile Block shopping coupon—it’s all part of your ticket! \nDetails and registration @ Heritage Park
URL:https://savourcalgary.ca/event/labour-day-tea/
LOCATION:Heritage Park\, 1900 Heritage Dr SW\, Calgary\, Alberta\, T2V 2X3\, Canada
CATEGORIES:Beverages,Family,Food,Friends,Holiday,Tea
ATTACH;FMTTYPE=image/png:https://savourcalgary.ca/wp-content/uploads/2023/07/heritage-tea.png
END:VEVENT
END:VCALENDAR