BEGIN:VCALENDAR
VERSION:2.0
PRODID:-//Savour Calgary - ECPv6.15.17.1//NONSGML v1.0//EN
CALSCALE:GREGORIAN
METHOD:PUBLISH
X-WR-CALNAME:Savour Calgary
X-ORIGINAL-URL:https://savourcalgary.ca
X-WR-CALDESC:Events for Savour Calgary
REFRESH-INTERVAL;VALUE=DURATION:PT1H
X-Robots-Tag:noindex
X-PUBLISHED-TTL:PT1H
BEGIN:VTIMEZONE
TZID:America/Edmonton
BEGIN:DAYLIGHT
TZOFFSETFROM:-0700
TZOFFSETTO:-0600
TZNAME:MDT
DTSTART:20250309T090000
END:DAYLIGHT
BEGIN:STANDARD
TZOFFSETFROM:-0600
TZOFFSETTO:-0700
TZNAME:MST
DTSTART:20251102T080000
END:STANDARD
BEGIN:DAYLIGHT
TZOFFSETFROM:-0700
TZOFFSETTO:-0600
TZNAME:MDT
DTSTART:20260308T090000
END:DAYLIGHT
BEGIN:STANDARD
TZOFFSETFROM:-0600
TZOFFSETTO:-0700
TZNAME:MST
DTSTART:20261101T080000
END:STANDARD
BEGIN:DAYLIGHT
TZOFFSETFROM:-0700
TZOFFSETTO:-0600
TZNAME:MDT
DTSTART:20270314T090000
END:DAYLIGHT
BEGIN:STANDARD
TZOFFSETFROM:-0600
TZOFFSETTO:-0700
TZNAME:MST
DTSTART:20271107T080000
END:STANDARD
END:VTIMEZONE
BEGIN:VEVENT
DTSTART;TZID=America/Edmonton:20260503T120000
DTEND;TZID=America/Edmonton:20260503T150000
DTSTAMP:20260419T065901
CREATED:20260412T192852Z
LAST-MODIFIED:20260412T192852Z
UID:39174-1777809600-1777820400@savourcalgary.ca
SUMMARY:TikTok Eats: A Cooking Class for Teens (Ages 12+)
DESCRIPTION:TikTok is a vibe! It’s also a veritable haven for food lovers and content creators alike. If you think your teens are obsessed with trying some of the recipes on this platform\, you haven’t met Ching! Ching loves trying new things\, and she is also amazing at finding the dishes that work and separating them from the slush pile. Sign your teen up for three hours of fun in the kitchen; Ching will take them through some of the best recipes TikTok has to offer\, and the techniques that go with them. They will cook\, share\, and eat\, and as an added bonus\, we’ll take care of cleaning up afterwards. \n\n\n\n\n\n\nDetails and registration @ The Cookbook Co. Cooks
URL:https://savourcalgary.ca/event/tiktok-eats-a-cooking-class-for-teens-ages-12/
LOCATION:The Cookbook Co. Cooks\, 722 11 Avenue SW\, Calgary\, Alberta\, T2R0E4\, Canada
CATEGORIES:Classes,Cooking,Cooking Class
ATTACH;FMTTYPE=image/png:https://savourcalgary.ca/wp-content/uploads/2022/04/Untitled-design533.png
END:VEVENT
END:VCALENDAR