BEGIN:VCALENDAR
VERSION:2.0
PRODID:-//Savour Calgary - ECPv6.15.17.1//NONSGML v1.0//EN
CALSCALE:GREGORIAN
METHOD:PUBLISH
X-WR-CALNAME:Savour Calgary
X-ORIGINAL-URL:https://savourcalgary.ca
X-WR-CALDESC:Events for Savour Calgary
REFRESH-INTERVAL;VALUE=DURATION:PT1H
X-Robots-Tag:noindex
X-PUBLISHED-TTL:PT1H
BEGIN:VTIMEZONE
TZID:America/Edmonton
BEGIN:DAYLIGHT
TZOFFSETFROM:-0700
TZOFFSETTO:-0600
TZNAME:MDT
DTSTART:20240310T090000
END:DAYLIGHT
BEGIN:STANDARD
TZOFFSETFROM:-0600
TZOFFSETTO:-0700
TZNAME:MST
DTSTART:20241103T080000
END:STANDARD
BEGIN:DAYLIGHT
TZOFFSETFROM:-0700
TZOFFSETTO:-0600
TZNAME:MDT
DTSTART:20250309T090000
END:DAYLIGHT
BEGIN:STANDARD
TZOFFSETFROM:-0600
TZOFFSETTO:-0700
TZNAME:MST
DTSTART:20251102T080000
END:STANDARD
BEGIN:DAYLIGHT
TZOFFSETFROM:-0700
TZOFFSETTO:-0600
TZNAME:MDT
DTSTART:20260308T090000
END:DAYLIGHT
BEGIN:STANDARD
TZOFFSETFROM:-0600
TZOFFSETTO:-0700
TZNAME:MST
DTSTART:20261101T080000
END:STANDARD
END:VTIMEZONE
BEGIN:VEVENT
DTSTART;TZID=America/Edmonton:20250204T173000
DTEND;TZID=America/Edmonton:20250204T230000
DTSTAMP:20260420T003254
CREATED:20250125T201218Z
LAST-MODIFIED:20250125T201218Z
UID:30492-1738690200-1738710000@savourcalgary.ca
SUMMARY:Dinner and a Movie – Ratatouille
DESCRIPTION:Warm up this February with dinner and a movie at Heritage Park! Start your evening with a gourmet three-course meal in the iconic Gasoline Alley Museum\, surrounded by vintage vehicles. Then\, settle in for a classic film. \nDetails and registration @ Heritage Park
URL:https://savourcalgary.ca/event/dinner-and-a-movie-ratatouille/
LOCATION:Heritage Park\, 1900 Heritage Dr SW\, Calgary\, Alberta\, T2V 2X3\, Canada
CATEGORIES:Dining Series,Dinner,Entertainment,Family,Food,Friends
ATTACH;FMTTYPE=image/png:https://savourcalgary.ca/wp-content/uploads/2023/09/movie-night-heritage-park.png
END:VEVENT
BEGIN:VEVENT
DTSTART;TZID=America/Edmonton:20250214T170000
DTEND;TZID=America/Edmonton:20250214T210000
DTSTAMP:20260420T003254
CREATED:20250125T201213Z
LAST-MODIFIED:20250125T201213Z
UID:30491-1739552400-1739566800@savourcalgary.ca
SUMMARY:Valentine’s Day Dinner
DESCRIPTION:Valentine’s Day is almost here and love is in the air! If you’re looking for a truly memorable way to impress your special someone\, we’ve got you covered with the perfect date night idea! \nJoin Heritage Park for an intimate 3-course dining experience prepared by The Selkirk. Their expertly crafted Valentine’s Day menu combines the perfect balance of elegance\, comfort\, and flavour – offering a variety of options for each course to suit every palate. Set against the backdrop of vintage cars and timeless architecture in Gasoline Alley Museum\, one of Calgary’s most uniquely charming locations. Sip\, savour and enjoy a night of great conversation and delicious food that’s sure to make this Valentine’s Day one to remember. \nDetails and registration @ Heritage Park
URL:https://savourcalgary.ca/event/valentines-day-dinner-2/
LOCATION:Heritage Park\, 1900 Heritage Dr SW\, Calgary\, Alberta\, T2V 2X3\, Canada
CATEGORIES:Date Ideas,Dining Series,Dinner,Valentine's Day
ATTACH;FMTTYPE=image/png:https://savourcalgary.ca/wp-content/uploads/2024/02/valentines-day-dinner.png
END:VEVENT
END:VCALENDAR