BEGIN:VCALENDAR
VERSION:2.0
PRODID:-//Savour Calgary - ECPv6.15.17.1//NONSGML v1.0//EN
CALSCALE:GREGORIAN
METHOD:PUBLISH
X-ORIGINAL-URL:https://savourcalgary.ca
X-WR-CALDESC:Events for Savour Calgary
REFRESH-INTERVAL;VALUE=DURATION:PT1H
X-Robots-Tag:noindex
X-PUBLISHED-TTL:PT1H
BEGIN:VTIMEZONE
TZID:America/Edmonton
BEGIN:DAYLIGHT
TZOFFSETFROM:-0700
TZOFFSETTO:-0600
TZNAME:MDT
DTSTART:20240310T090000
END:DAYLIGHT
BEGIN:STANDARD
TZOFFSETFROM:-0600
TZOFFSETTO:-0700
TZNAME:MST
DTSTART:20241103T080000
END:STANDARD
BEGIN:DAYLIGHT
TZOFFSETFROM:-0700
TZOFFSETTO:-0600
TZNAME:MDT
DTSTART:20250309T090000
END:DAYLIGHT
BEGIN:STANDARD
TZOFFSETFROM:-0600
TZOFFSETTO:-0700
TZNAME:MST
DTSTART:20251102T080000
END:STANDARD
BEGIN:DAYLIGHT
TZOFFSETFROM:-0700
TZOFFSETTO:-0600
TZNAME:MDT
DTSTART:20260308T090000
END:DAYLIGHT
BEGIN:STANDARD
TZOFFSETFROM:-0600
TZOFFSETTO:-0700
TZNAME:MST
DTSTART:20261101T080000
END:STANDARD
END:VTIMEZONE
BEGIN:VEVENT
DTSTART;TZID=America/Edmonton:20250422T173000
DTEND;TZID=America/Edmonton:20250422T230000
DTSTAMP:20260419T212819
CREATED:20250409T212554Z
LAST-MODIFIED:20250409T212554Z
UID:31947-1745343000-1745362800@savourcalgary.ca
SUMMARY:Dinner and a Movie: The Goonies
DESCRIPTION:Kick off spring with adventure and nostalgia at Heritage Park’s Dinner and a Movie! \nStart with a gourmet three-course meal in the vintage setting of Gasoline Alley Museum\, then set off on a treasure-hunting adventure with a special screening of The Goonies. \nDetails and registration @ Heritage Park
URL:https://savourcalgary.ca/event/dinner-and-a-movie-the-goonies/
LOCATION:Heritage Park Gasoline Alley\, 1900 Heritage Dr SW\, Calgary\, Alberta\, Canada
CATEGORIES:Dining Series,Dinner,Entertainment,Family,Food,Friends
ATTACH;FMTTYPE=image/jpeg:https://savourcalgary.ca/wp-content/uploads/2025/04/Tourism-Calgary-Size3.jpg
END:VEVENT
END:VCALENDAR