BEGIN:VCALENDAR
VERSION:2.0
PRODID:-//Savour Calgary - ECPv6.15.17.1//NONSGML v1.0//EN
CALSCALE:GREGORIAN
METHOD:PUBLISH
X-ORIGINAL-URL:https://savourcalgary.ca
X-WR-CALDESC:Events for Savour Calgary
REFRESH-INTERVAL;VALUE=DURATION:PT1H
X-Robots-Tag:noindex
X-PUBLISHED-TTL:PT1H
BEGIN:VTIMEZONE
TZID:America/Edmonton
BEGIN:DAYLIGHT
TZOFFSETFROM:-0700
TZOFFSETTO:-0600
TZNAME:MDT
DTSTART:20240310T090000
END:DAYLIGHT
BEGIN:STANDARD
TZOFFSETFROM:-0600
TZOFFSETTO:-0700
TZNAME:MST
DTSTART:20241103T080000
END:STANDARD
BEGIN:DAYLIGHT
TZOFFSETFROM:-0700
TZOFFSETTO:-0600
TZNAME:MDT
DTSTART:20250309T090000
END:DAYLIGHT
BEGIN:STANDARD
TZOFFSETFROM:-0600
TZOFFSETTO:-0700
TZNAME:MST
DTSTART:20251102T080000
END:STANDARD
BEGIN:DAYLIGHT
TZOFFSETFROM:-0700
TZOFFSETTO:-0600
TZNAME:MDT
DTSTART:20260308T090000
END:DAYLIGHT
BEGIN:STANDARD
TZOFFSETFROM:-0600
TZOFFSETTO:-0700
TZNAME:MST
DTSTART:20261101T080000
END:STANDARD
END:VTIMEZONE
BEGIN:VEVENT
DTSTART;TZID=America/Edmonton:20250601T173000
DTEND;TZID=America/Edmonton:20250601T203000
DTSTAMP:20260419T182130
CREATED:20250513T004416Z
LAST-MODIFIED:20250513T004416Z
UID:32709-1748799000-1748809800@savourcalgary.ca
SUMMARY:Date Night
DESCRIPTION:Get your hands dirty in this exclusive cooking experience for which Cuisine et Château have designed a menu with both of you in mind\, working side by side\, combining your talents by plating your own dinner! \nThis class includes a recipe booklet\, a three-course meal with wine sampling or a non-alcoholic beverage\, and a customized kitchen utensil to take home! \nDetails and registration @ Cuisine et Château
URL:https://savourcalgary.ca/event/date-night-3-2025-06-01/
LOCATION:Cuisine et Château\, 103\, 227 10 Street SW\, Calgary\, Alberta\, T2N1V5\, Canada
CATEGORIES:Beverages,Date Ideas,Dining Series,Dinner,Food
ATTACH;FMTTYPE=image/jpeg:https://savourcalgary.ca/wp-content/uploads/2025/05/date-night-CC.jpg
END:VEVENT
BEGIN:VEVENT
DTSTART;TZID=America/Edmonton:20250612T183000
DTEND;TZID=America/Edmonton:20250612T203000
DTSTAMP:20260419T182130
CREATED:20250513T004424Z
LAST-MODIFIED:20250513T004424Z
UID:32717-1749753000-1749760200@savourcalgary.ca
SUMMARY:A Summer in Provence
DESCRIPTION:Get whisked away to France through culinary creations inspired by Provence\, nestled alongside the Mediterranean coastline of southeastern region. Enjoy handcrafting your own delicious\, yet surprisingly simple\, plates as if you’re on a European vacation! \nThis class includes a recipe booklet\, a three course meal with wine sampling\, and take home your own box of authentic Persian saffron! \nDetails and registration @ Cuisine et Château
URL:https://savourcalgary.ca/event/a-summer-in-provence-2025-06-12/
LOCATION:Cuisine et Château\, 103\, 227 10 Street SW\, Calgary\, Alberta\, T2N1V5\, Canada
CATEGORIES:Classes,Cooking,Cooking Class,Food,Global,Summer,Tasting,Wine
ATTACH;FMTTYPE=image/png:https://savourcalgary.ca/wp-content/uploads/2025/05/summer-CC.png
END:VEVENT
BEGIN:VEVENT
DTSTART;TZID=America/Edmonton:20250628T173000
DTEND;TZID=America/Edmonton:20250628T203000
DTSTAMP:20260419T182130
CREATED:20250513T004417Z
LAST-MODIFIED:20250513T004417Z
UID:32710-1751131800-1751142600@savourcalgary.ca
SUMMARY:Date Night
DESCRIPTION:Get your hands dirty in this exclusive cooking experience for which Cuisine et Château have designed a menu with both of you in mind\, working side by side\, combining your talents by plating your own dinner! \nThis class includes a recipe booklet\, a three-course meal with wine sampling or a non-alcoholic beverage\, and a customized kitchen utensil to take home! \nDetails and registration @ Cuisine et Château
URL:https://savourcalgary.ca/event/date-night-3-2025-06-28/
LOCATION:Cuisine et Château\, 103\, 227 10 Street SW\, Calgary\, Alberta\, T2N1V5\, Canada
CATEGORIES:Beverages,Date Ideas,Dining Series,Dinner,Food
ATTACH;FMTTYPE=image/jpeg:https://savourcalgary.ca/wp-content/uploads/2025/05/date-night-CC.jpg
END:VEVENT
BEGIN:VEVENT
DTSTART;TZID=America/Edmonton:20250629T110000
DTEND;TZID=America/Edmonton:20250629T140000
DTSTAMP:20260419T182130
CREATED:20250513T004425Z
LAST-MODIFIED:20250513T004425Z
UID:32718-1751194800-1751205600@savourcalgary.ca
SUMMARY:A Summer in Provence
DESCRIPTION:Get whisked away to France through culinary creations inspired by Provence\, nestled alongside the Mediterranean coastline of southeastern region. Enjoy handcrafting your own delicious\, yet surprisingly simple\, plates as if you’re on a European vacation! \nThis class includes a recipe booklet\, a three course meal with wine sampling\, and take home your own box of authentic Persian saffron! \nDetails and registration @ Cuisine et Château
URL:https://savourcalgary.ca/event/a-summer-in-provence-2025-06-29/
LOCATION:Cuisine et Château\, 103\, 227 10 Street SW\, Calgary\, Alberta\, T2N1V5\, Canada
CATEGORIES:Classes,Cooking,Cooking Class,Food,Global,Summer,Tasting,Wine
ATTACH;FMTTYPE=image/png:https://savourcalgary.ca/wp-content/uploads/2025/05/summer-CC.png
END:VEVENT
END:VCALENDAR