BEGIN:VCALENDAR
VERSION:2.0
PRODID:-//Savour Calgary - ECPv6.15.17.1//NONSGML v1.0//EN
CALSCALE:GREGORIAN
METHOD:PUBLISH
X-ORIGINAL-URL:https://savourcalgary.ca
X-WR-CALDESC:Events for Savour Calgary
REFRESH-INTERVAL;VALUE=DURATION:PT1H
X-Robots-Tag:noindex
X-PUBLISHED-TTL:PT1H
BEGIN:VTIMEZONE
TZID:America/Edmonton
BEGIN:DAYLIGHT
TZOFFSETFROM:-0700
TZOFFSETTO:-0600
TZNAME:MDT
DTSTART:20250309T090000
END:DAYLIGHT
BEGIN:STANDARD
TZOFFSETFROM:-0600
TZOFFSETTO:-0700
TZNAME:MST
DTSTART:20251102T080000
END:STANDARD
BEGIN:DAYLIGHT
TZOFFSETFROM:-0700
TZOFFSETTO:-0600
TZNAME:MDT
DTSTART:20260308T090000
END:DAYLIGHT
BEGIN:STANDARD
TZOFFSETFROM:-0600
TZOFFSETTO:-0700
TZNAME:MST
DTSTART:20261101T080000
END:STANDARD
BEGIN:DAYLIGHT
TZOFFSETFROM:-0700
TZOFFSETTO:-0600
TZNAME:MDT
DTSTART:20270314T090000
END:DAYLIGHT
BEGIN:STANDARD
TZOFFSETFROM:-0600
TZOFFSETTO:-0700
TZNAME:MST
DTSTART:20271107T080000
END:STANDARD
END:VTIMEZONE
BEGIN:VEVENT
DTSTART;TZID=America/Edmonton:20260206T190000
DTEND;TZID=America/Edmonton:20260206T203000
DTSTAMP:20260419T065852
CREATED:20251221T014634Z
LAST-MODIFIED:20251221T014634Z
UID:37172-1770404400-1770409800@savourcalgary.ca
SUMMARY:Love is Blind
DESCRIPTION:Fall in love again—with wine and dogs! One of Willow Park’s most beloved events returns for a fun and meaningful evening in support of the Alberta Guide Dog Association. Blindfolded yet guided by their Trusted Experts\, you’ll embark on a sensory journey through a three-course pairing menu designed to heighten every sense. Meet one of AGDA’s remarkable service dogs and hear inspiring stories about the difference they make. A portion of the proceeds will support BC & Alberta Guide Dogs. Join them for a heartwarming evening of flavour\, purpose\, and connection—crafted by their talented chefs\, Max and Carmen. \nDetails and registration @ Willow Park Wines & Spirits
URL:https://savourcalgary.ca/event/love-is-blind-3/
LOCATION:Willow Park Wines & Spirits – Willow Park Village\, 10801 Bonaventure Drive SE\, Calgary\, Alberta\, T2J 6Z8\, Canada
CATEGORIES:Beverages,Food,Pairing,Tasting,Wine
ATTACH;FMTTYPE=image/png:https://savourcalgary.ca/wp-content/uploads/2024/01/Untitled-design95-1.png
END:VEVENT
END:VCALENDAR