BEGIN:VCALENDAR
VERSION:2.0
PRODID:-//Savour Calgary - ECPv6.15.17.1//NONSGML v1.0//EN
CALSCALE:GREGORIAN
METHOD:PUBLISH
X-WR-CALNAME:Savour Calgary
X-ORIGINAL-URL:https://savourcalgary.ca
X-WR-CALDESC:Events for Savour Calgary
REFRESH-INTERVAL;VALUE=DURATION:PT1H
X-Robots-Tag:noindex
X-PUBLISHED-TTL:PT1H
BEGIN:VTIMEZONE
TZID:America/Edmonton
BEGIN:DAYLIGHT
TZOFFSETFROM:-0700
TZOFFSETTO:-0600
TZNAME:MDT
DTSTART:20240310T090000
END:DAYLIGHT
BEGIN:STANDARD
TZOFFSETFROM:-0600
TZOFFSETTO:-0700
TZNAME:MST
DTSTART:20241103T080000
END:STANDARD
BEGIN:DAYLIGHT
TZOFFSETFROM:-0700
TZOFFSETTO:-0600
TZNAME:MDT
DTSTART:20250309T090000
END:DAYLIGHT
BEGIN:STANDARD
TZOFFSETFROM:-0600
TZOFFSETTO:-0700
TZNAME:MST
DTSTART:20251102T080000
END:STANDARD
BEGIN:DAYLIGHT
TZOFFSETFROM:-0700
TZOFFSETTO:-0600
TZNAME:MDT
DTSTART:20260308T090000
END:DAYLIGHT
BEGIN:STANDARD
TZOFFSETFROM:-0600
TZOFFSETTO:-0700
TZNAME:MST
DTSTART:20261101T080000
END:STANDARD
END:VTIMEZONE
BEGIN:VEVENT
DTSTART;TZID=America/Edmonton:20250612T183000
DTEND;TZID=America/Edmonton:20250612T203000
DTSTAMP:20260419T195023
CREATED:20250513T004424Z
LAST-MODIFIED:20250513T004424Z
UID:32717-1749753000-1749760200@savourcalgary.ca
SUMMARY:A Summer in Provence
DESCRIPTION:Get whisked away to France through culinary creations inspired by Provence\, nestled alongside the Mediterranean coastline of southeastern region. Enjoy handcrafting your own delicious\, yet surprisingly simple\, plates as if you’re on a European vacation! \nThis class includes a recipe booklet\, a three course meal with wine sampling\, and take home your own box of authentic Persian saffron! \nDetails and registration @ Cuisine et Château
URL:https://savourcalgary.ca/event/a-summer-in-provence-2025-06-12/
LOCATION:Cuisine et Château\, 103\, 227 10 Street SW\, Calgary\, Alberta\, T2N1V5\, Canada
CATEGORIES:Classes,Cooking,Cooking Class,Food,Global,Summer,Tasting,Wine
ATTACH;FMTTYPE=image/png:https://savourcalgary.ca/wp-content/uploads/2025/05/summer-CC.png
END:VEVENT
END:VCALENDAR