BEGIN:VCALENDAR
VERSION:2.0
PRODID:-//Savour Calgary - ECPv6.15.17.1//NONSGML v1.0//EN
CALSCALE:GREGORIAN
METHOD:PUBLISH
X-ORIGINAL-URL:https://savourcalgary.ca
X-WR-CALDESC:Events for Savour Calgary
REFRESH-INTERVAL;VALUE=DURATION:PT1H
X-Robots-Tag:noindex
X-PUBLISHED-TTL:PT1H
BEGIN:VTIMEZONE
TZID:America/Edmonton
BEGIN:DAYLIGHT
TZOFFSETFROM:-0700
TZOFFSETTO:-0600
TZNAME:MDT
DTSTART:20240310T090000
END:DAYLIGHT
BEGIN:STANDARD
TZOFFSETFROM:-0600
TZOFFSETTO:-0700
TZNAME:MST
DTSTART:20241103T080000
END:STANDARD
BEGIN:DAYLIGHT
TZOFFSETFROM:-0700
TZOFFSETTO:-0600
TZNAME:MDT
DTSTART:20250309T090000
END:DAYLIGHT
BEGIN:STANDARD
TZOFFSETFROM:-0600
TZOFFSETTO:-0700
TZNAME:MST
DTSTART:20251102T080000
END:STANDARD
BEGIN:DAYLIGHT
TZOFFSETFROM:-0700
TZOFFSETTO:-0600
TZNAME:MDT
DTSTART:20260308T090000
END:DAYLIGHT
BEGIN:STANDARD
TZOFFSETFROM:-0600
TZOFFSETTO:-0700
TZNAME:MST
DTSTART:20261101T080000
END:STANDARD
END:VTIMEZONE
BEGIN:VEVENT
DTSTART;TZID=America/Edmonton:20250129T183000
DTEND;TZID=America/Edmonton:20250129T210000
DTSTAMP:20260425T130902
CREATED:20241213T192514Z
LAST-MODIFIED:20241213T192514Z
UID:29728-1738175400-1738184400@savourcalgary.ca
SUMMARY:Weeknight Vegan
DESCRIPTION:Just like the title says\, in this class\, you’ll learn a menu full of vegan entrees that you’ll welcome into your regular weeknight meal rotation! Vegan cuisine doesn’t always inspire thoughts of comfort food\, but Lisa will change that with a menu of delicious and hearty animal-free dishes\, filled with flavourful vegetables\, herbs\, grains\, and imagination. \n\n\n\n\n\n\nDetails and registration @ The Cookbook Co. Cooks
URL:https://savourcalgary.ca/event/weeknight-vegan-2/
LOCATION:The Cookbook Co. Cooks\, 722 11 Avenue SW\, Calgary\, Alberta\, T2R0E4\, Canada
CATEGORIES:Classes,Cooking,Cooking Class,Vegan
ATTACH;FMTTYPE=image/png:https://savourcalgary.ca/wp-content/uploads/2024/12/guykf.png
END:VEVENT
END:VCALENDAR