BEGIN:VCALENDAR
VERSION:2.0
PRODID:-//Savour Calgary - ECPv6.15.17.1//NONSGML v1.0//EN
CALSCALE:GREGORIAN
METHOD:PUBLISH
X-ORIGINAL-URL:https://savourcalgary.ca
X-WR-CALDESC:Events for Savour Calgary
REFRESH-INTERVAL;VALUE=DURATION:PT1H
X-Robots-Tag:noindex
X-PUBLISHED-TTL:PT1H
BEGIN:VTIMEZONE
TZID:America/Edmonton
BEGIN:DAYLIGHT
TZOFFSETFROM:-0700
TZOFFSETTO:-0600
TZNAME:MDT
DTSTART:20240310T090000
END:DAYLIGHT
BEGIN:STANDARD
TZOFFSETFROM:-0600
TZOFFSETTO:-0700
TZNAME:MST
DTSTART:20241103T080000
END:STANDARD
BEGIN:DAYLIGHT
TZOFFSETFROM:-0700
TZOFFSETTO:-0600
TZNAME:MDT
DTSTART:20250309T090000
END:DAYLIGHT
BEGIN:STANDARD
TZOFFSETFROM:-0600
TZOFFSETTO:-0700
TZNAME:MST
DTSTART:20251102T080000
END:STANDARD
BEGIN:DAYLIGHT
TZOFFSETFROM:-0700
TZOFFSETTO:-0600
TZNAME:MDT
DTSTART:20260308T090000
END:DAYLIGHT
BEGIN:STANDARD
TZOFFSETFROM:-0600
TZOFFSETTO:-0700
TZNAME:MST
DTSTART:20261101T080000
END:STANDARD
END:VTIMEZONE
BEGIN:VEVENT
DTSTART;TZID=America/Edmonton:20250322T180000
DTEND;TZID=America/Edmonton:20250322T220000
DTSTAMP:20260419T114006
CREATED:20250224T203410Z
LAST-MODIFIED:20250224T203410Z
UID:31019-1742666400-1742680800@savourcalgary.ca
SUMMARY:Grape Escape
DESCRIPTION:You’re invited to Calgary’s largest premium wine\, spirits and beer tasting event! Enjoy tasting experiences led by winemakers and distillers with hundreds of sips to go around from over 125 vendors. Experience a variety of exciting drinks\, food and good times ahead on Mar. 21 + 22\, 2025! Please enjoy responsibly. \nDetails and registration @ Calgary Co-op Wine Spirits & Beer 
URL:https://savourcalgary.ca/event/grape-escape-3-2025-03-22/
LOCATION:BMO Center\, 20 Roundup Way SE\, Calgary\, Alberta\, Canada
CATEGORIES:Beverages,Tequila,Wine
ATTACH;FMTTYPE=image/png:https://savourcalgary.ca/wp-content/uploads/2023/10/grape-escape.png
END:VEVENT
END:VCALENDAR