BEGIN:VCALENDAR
VERSION:2.0
PRODID:-//Savour Calgary - ECPv6.15.17.1//NONSGML v1.0//EN
CALSCALE:GREGORIAN
METHOD:PUBLISH
X-ORIGINAL-URL:https://savourcalgary.ca
X-WR-CALDESC:Events for Savour Calgary
REFRESH-INTERVAL;VALUE=DURATION:PT1H
X-Robots-Tag:noindex
X-PUBLISHED-TTL:PT1H
BEGIN:VTIMEZONE
TZID:America/Edmonton
BEGIN:DAYLIGHT
TZOFFSETFROM:-0700
TZOFFSETTO:-0600
TZNAME:MDT
DTSTART:20240310T090000
END:DAYLIGHT
BEGIN:STANDARD
TZOFFSETFROM:-0600
TZOFFSETTO:-0700
TZNAME:MST
DTSTART:20241103T080000
END:STANDARD
BEGIN:DAYLIGHT
TZOFFSETFROM:-0700
TZOFFSETTO:-0600
TZNAME:MDT
DTSTART:20250309T090000
END:DAYLIGHT
BEGIN:STANDARD
TZOFFSETFROM:-0600
TZOFFSETTO:-0700
TZNAME:MST
DTSTART:20251102T080000
END:STANDARD
BEGIN:DAYLIGHT
TZOFFSETFROM:-0700
TZOFFSETTO:-0600
TZNAME:MDT
DTSTART:20260308T090000
END:DAYLIGHT
BEGIN:STANDARD
TZOFFSETFROM:-0600
TZOFFSETTO:-0700
TZNAME:MST
DTSTART:20261101T080000
END:STANDARD
END:VTIMEZONE
BEGIN:VEVENT
DTSTART;TZID=America/Edmonton:20250622T110000
DTEND;TZID=America/Edmonton:20250622T140000
DTSTAMP:20260422T063628
CREATED:20250603T233014Z
LAST-MODIFIED:20250603T233014Z
UID:33057-1750590000-1750600800@savourcalgary.ca
SUMMARY:The Wildest Pride Brunch
DESCRIPTION:The Wilde on 27\, is celebrating Pride Month by hosting The Wildest Pride Brunch. This event is set to have live drag performances full of high energy and fierce fashion\, delicious short plates\, and fun activation stations. The menu will include a variety of brunch favourites such as Eggs Benedict\, East Coast Lobster Hash\, Wilde Seafood Bar and Japanese Pancakes\, all of which guests can enjoy while looking out at the stunning city views. A mimosa bar will be available for an additional cost\, and guests are required to book a reservation in advance as seating is limited. \nDetails and registration @ The Wilde
URL:https://savourcalgary.ca/event/the-wildest-pride-brunch/
LOCATION:The Wilde\, 525 5the Avenue\, 27th Floor\, Calgary\, Alberta\, T2P1P7\, Canada
CATEGORIES:Breakfast,Brunch,Buffet,Family,Friends
ATTACH;FMTTYPE=image/png:https://savourcalgary.ca/wp-content/uploads/2025/06/Wilde-pride.png
END:VEVENT
END:VCALENDAR