BEGIN:VCALENDAR
VERSION:2.0
PRODID:-//Savour Calgary - ECPv6.15.17.1//NONSGML v1.0//EN
CALSCALE:GREGORIAN
METHOD:PUBLISH
X-ORIGINAL-URL:https://savourcalgary.ca
X-WR-CALDESC:Events for Savour Calgary
REFRESH-INTERVAL;VALUE=DURATION:PT1H
X-Robots-Tag:noindex
X-PUBLISHED-TTL:PT1H
BEGIN:VTIMEZONE
TZID:America/Edmonton
BEGIN:DAYLIGHT
TZOFFSETFROM:-0700
TZOFFSETTO:-0600
TZNAME:MDT
DTSTART:20240310T090000
END:DAYLIGHT
BEGIN:STANDARD
TZOFFSETFROM:-0600
TZOFFSETTO:-0700
TZNAME:MST
DTSTART:20241103T080000
END:STANDARD
BEGIN:DAYLIGHT
TZOFFSETFROM:-0700
TZOFFSETTO:-0600
TZNAME:MDT
DTSTART:20250309T090000
END:DAYLIGHT
BEGIN:STANDARD
TZOFFSETFROM:-0600
TZOFFSETTO:-0700
TZNAME:MST
DTSTART:20251102T080000
END:STANDARD
BEGIN:DAYLIGHT
TZOFFSETFROM:-0700
TZOFFSETTO:-0600
TZNAME:MDT
DTSTART:20260308T090000
END:DAYLIGHT
BEGIN:STANDARD
TZOFFSETFROM:-0600
TZOFFSETTO:-0700
TZNAME:MST
DTSTART:20261101T080000
END:STANDARD
END:VTIMEZONE
BEGIN:VEVENT
DTSTART;VALUE=DATE:20250808
DTEND;VALUE=DATE:20250818
DTSTAMP:20260419T201057
CREATED:20250808T014842Z
LAST-MODIFIED:20250808T014842Z
UID:34185-1754611200-1755475199@savourcalgary.ca
SUMMARY:Alberta on the Plate
DESCRIPTION:Alberta on the Plate showcases the incredible bounty that is grown and produced across this beautiful province. Throughout the year\, Alberta on the Plate celebrates and shares the Alberta food story by introducing you to the people and businesses that grow\, raise\, create\, and support the agri-food industry in Alberta. They also help to establish meaningful connections between local chefs and producers to increase the volume of local ingredients used in restaurants while building the resiliency of our local food value chain. \nDetails @ Alberta on the Plate
URL:https://savourcalgary.ca/event/alberta-on-the-plate-3/
CATEGORIES:Dining Series,Food
ATTACH;FMTTYPE=image/png:https://savourcalgary.ca/wp-content/uploads/2024/09/food-in-bowl.png
END:VEVENT
END:VCALENDAR