BEGIN:VCALENDAR
VERSION:2.0
PRODID:-//Savour Calgary - ECPv6.15.17.1//NONSGML v1.0//EN
CALSCALE:GREGORIAN
METHOD:PUBLISH
X-WR-CALNAME:Savour Calgary
X-ORIGINAL-URL:https://savourcalgary.ca
X-WR-CALDESC:Events for Savour Calgary
REFRESH-INTERVAL;VALUE=DURATION:PT1H
X-Robots-Tag:noindex
X-PUBLISHED-TTL:PT1H
BEGIN:VTIMEZONE
TZID:America/Edmonton
BEGIN:DAYLIGHT
TZOFFSETFROM:-0700
TZOFFSETTO:-0600
TZNAME:MDT
DTSTART:20240310T090000
END:DAYLIGHT
BEGIN:STANDARD
TZOFFSETFROM:-0600
TZOFFSETTO:-0700
TZNAME:MST
DTSTART:20241103T080000
END:STANDARD
BEGIN:DAYLIGHT
TZOFFSETFROM:-0700
TZOFFSETTO:-0600
TZNAME:MDT
DTSTART:20250309T090000
END:DAYLIGHT
BEGIN:STANDARD
TZOFFSETFROM:-0600
TZOFFSETTO:-0700
TZNAME:MST
DTSTART:20251102T080000
END:STANDARD
BEGIN:DAYLIGHT
TZOFFSETFROM:-0700
TZOFFSETTO:-0600
TZNAME:MDT
DTSTART:20260308T090000
END:DAYLIGHT
BEGIN:STANDARD
TZOFFSETFROM:-0600
TZOFFSETTO:-0700
TZNAME:MST
DTSTART:20261101T080000
END:STANDARD
END:VTIMEZONE
BEGIN:VEVENT
DTSTART;TZID=America/Edmonton:20251108T173000
DTEND;TZID=America/Edmonton:20251108T193000
DTSTAMP:20260419T143556
CREATED:20251017T194035Z
LAST-MODIFIED:20251017T194035Z
UID:35421-1762623000-1762630200@savourcalgary.ca
SUMMARY:Your Adventure Awaits
DESCRIPTION:Some of the world’s tastiest dishes have emerged from the continent that invented cooking. \nOn this delicious and delightful evening\, you’ll be treated to an assortment of flavourful foods while Patrick entertains you with amusing and absorbing anecdotes about several of the African artifacts he and Sue have collected over the years. \nA number of those artifacts will even be available for purchase by silent auction. \nJoin PaSu for this African culinary and cultural adventure. \nDetails and registration @ PaSu
URL:https://savourcalgary.ca/event/your-adventure-awaits/
LOCATION:PaSu Farms\, 29434\, Range Rd 23\, Mountain View County\, Alberta\, T0M 0N0\, Canada
CATEGORIES:Dining Series,Dinner,Food
ATTACH;FMTTYPE=image/png:https://savourcalgary.ca/wp-content/uploads/2025/10/african-food.png
END:VEVENT
END:VCALENDAR