BEGIN:VCALENDAR
VERSION:2.0
PRODID:-//Savour Calgary - ECPv6.15.17.1//NONSGML v1.0//EN
CALSCALE:GREGORIAN
METHOD:PUBLISH
X-ORIGINAL-URL:https://savourcalgary.ca
X-WR-CALDESC:Events for Savour Calgary
REFRESH-INTERVAL;VALUE=DURATION:PT1H
X-Robots-Tag:noindex
X-PUBLISHED-TTL:PT1H
BEGIN:VTIMEZONE
TZID:America/Edmonton
BEGIN:DAYLIGHT
TZOFFSETFROM:-0700
TZOFFSETTO:-0600
TZNAME:MDT
DTSTART:20250309T090000
END:DAYLIGHT
BEGIN:STANDARD
TZOFFSETFROM:-0600
TZOFFSETTO:-0700
TZNAME:MST
DTSTART:20251102T080000
END:STANDARD
BEGIN:DAYLIGHT
TZOFFSETFROM:-0700
TZOFFSETTO:-0600
TZNAME:MDT
DTSTART:20260308T090000
END:DAYLIGHT
BEGIN:STANDARD
TZOFFSETFROM:-0600
TZOFFSETTO:-0700
TZNAME:MST
DTSTART:20261101T080000
END:STANDARD
BEGIN:DAYLIGHT
TZOFFSETFROM:-0700
TZOFFSETTO:-0600
TZNAME:MDT
DTSTART:20270314T090000
END:DAYLIGHT
BEGIN:STANDARD
TZOFFSETFROM:-0600
TZOFFSETTO:-0700
TZNAME:MST
DTSTART:20271107T080000
END:STANDARD
END:VTIMEZONE
BEGIN:VEVENT
DTSTART;TZID=America/Edmonton:20260327T170000
DTEND;TZID=America/Edmonton:20260327T210000
DTSTAMP:20260419T080208
CREATED:20260302T040922Z
LAST-MODIFIED:20260302T040922Z
UID:38442-1774630800-1774645200@savourcalgary.ca
SUMMARY:Bow & Bend
DESCRIPTION:Be the first to taste what’s next. Join Bow & Bend for a one-night-only rooftop tasting experience and get exclusive access to their spring/summer 2026 menu before it launches in April. \nThis walk-around culinary event is designed to be interactive\, vibrant\, and Come hungry\, come curious\, and join Bow & Bend for an unforgettable evening of flavour\, flair\, and first tastes of the season. \nDetails and registration @ YYC EXP
URL:https://savourcalgary.ca/event/bow-bend/
LOCATION:Bow & Bend\, 833 4 Ave SW 12th Floor\, Calgary\, Alberta\, Canada
CATEGORIES:Beverages,Cocktail,Dining Series,Dinner,Food,Tasting
ATTACH;FMTTYPE=image/jpeg:https://savourcalgary.ca/wp-content/uploads/2026/02/YYC-EXP-2.jpg
END:VEVENT
END:VCALENDAR